BEGIN:VCALENDAR
VERSION:2.0
PRODID:-//wp-events-plugin.com//7.2.3.1//EN
TZID:America/New_York
X-WR-TIMEZONE:America/New_York
BEGIN:VEVENT
UID:441@cincyscca.com
DTSTART;TZID=America/New_York:20250211T190000
DTEND;TZID=America/New_York:20250211T210000
DTSTAMP:20250113T163948Z
URL:http://cincyscca.com/events/race-committee-meeting-3-2025-02-11/
SUMMARY:Race Committee Meeting
DESCRIPTION:Event Location\, Online meeting link provided upon requests\nPl
 ease contact Race Chair for the Meeting Info
CATEGORIES:RoadRacing
END:VEVENT
BEGIN:VTIMEZONE
TZID:America/New_York
X-LIC-LOCATION:America/New_York
BEGIN:STANDARD
DTSTART:20241103T010000
TZOFFSETFROM:-0400
TZOFFSETTO:-0500
TZNAME:EST
END:STANDARD
END:VTIMEZONE
END:VCALENDAR