BEGIN:VCALENDAR
VERSION:2.0
PRODID:-//wp-events-plugin.com//7.2.3.1//EN
TZID:America/New_York
X-WR-TIMEZONE:America/New_York
BEGIN:VEVENT
UID:471@cincyscca.com
DTSTART;TZID=America/New_York:20250215T180000
DTEND;TZID=America/New_York:20250215T220000
DTSTAMP:20250129T205951Z
URL:http://cincyscca.com/events/social-cincyscca-member-appreciation-and-a
 wards-banquet/
SUMMARY:Social: CincySCCA Member Appreciation and Awards Banquet
DESCRIPTION:Registration is Required : CincySCCA.MotorsportReg.com\n\nPleas
 e see the event registration page for the details.
CATEGORIES:Social
LOCATION:Receptions - Fairfield\, 5975 Boymel Dr.\, Fairfield\, OH\, 45014\
 , United States
X-APPLE-STRUCTURED-LOCATION;VALUE=URI;X-ADDRESS=5975 Boymel Dr.\, Fairfield
 \, OH\, 45014\, United States;X-APPLE-RADIUS=100;X-TITLE=Receptions - Fair
 field:geo:0,0
END:VEVENT
BEGIN:VTIMEZONE
TZID:America/New_York
X-LIC-LOCATION:America/New_York
BEGIN:STANDARD
DTSTART:20241103T010000
TZOFFSETFROM:-0400
TZOFFSETTO:-0500
TZNAME:EST
END:STANDARD
END:VTIMEZONE
END:VCALENDAR