BEGIN:VCALENDAR
VERSION:2.0
PRODID:-//wp-events-plugin.com//7.2.3.1//EN
TZID:America/New_York
X-WR-TIMEZONE:America/New_York
BEGIN:VEVENT
UID:67@cincyscca.com
DTSTART;TZID=America/New_York;VALUE=DATE:20170916
DTEND;TZID=America/New_York;VALUE=DATE:20170917
DTSTAMP:20170429T031201Z
URL:https://cincyscca.com/events/2017-roadrally-pe5/
SUMMARY:2017 RoadRally PE#5
DESCRIPTION:
CATEGORIES:RoadRally
END:VEVENT
BEGIN:VTIMEZONE
TZID:America/New_York
X-LIC-LOCATION:America/New_York
BEGIN:DAYLIGHT
DTSTART:20170312T030000
TZOFFSETFROM:-0500
TZOFFSETTO:-0400
TZNAME:EDT
END:DAYLIGHT
END:VTIMEZONE
END:VCALENDAR