BEGIN:VCALENDAR
VERSION:2.0
PRODID:-//wp-events-plugin.com//7.2.3.1//EN
TZID:America/New_York
X-WR-TIMEZONE:America/New_York
BEGIN:VEVENT
UID:170@cincyscca.com
DTSTART;TZID=America/New_York:20190707T100000
DTEND;TZID=America/New_York:20190707T160000
DTSTAMP:20190304T132456Z
URL:https://cincyscca.com/events/cincyscca-gears-and-beers/
SUMMARY:CincySCCA Gears and Beers
DESCRIPTION:
CATEGORIES:Social
LOCATION:MadTree Brewing\, 3301 Madison Rd.\, Cincinnati\, OH\, 45209\, Uni
 ted States
X-APPLE-STRUCTURED-LOCATION;VALUE=URI;X-ADDRESS=3301 Madison Rd.\, Cincinna
 ti\, OH\, 45209\, United States;X-APPLE-RADIUS=100;X-TITLE=MadTree Brewing
 :geo:0,0
END:VEVENT
BEGIN:VTIMEZONE
TZID:America/New_York
X-LIC-LOCATION:America/New_York
BEGIN:DAYLIGHT
DTSTART:20190310T030000
TZOFFSETFROM:-0500
TZOFFSETTO:-0400
TZNAME:EDT
END:DAYLIGHT
END:VTIMEZONE
END:VCALENDAR